BEGIN:VCALENDAR
VERSION:2.0
PRODID:-//Ted Ferry Civic Center - ECPv6.15.20//NONSGML v1.0//EN
CALSCALE:GREGORIAN
METHOD:PUBLISH
X-WR-CALNAME:Ted Ferry Civic Center
X-ORIGINAL-URL:https://ketchikanciviccenter.com
X-WR-CALDESC:Events for Ted Ferry Civic Center
REFRESH-INTERVAL;VALUE=DURATION:PT1H
X-Robots-Tag:noindex
X-PUBLISHED-TTL:PT1H
BEGIN:VTIMEZONE
TZID:America/Juneau
BEGIN:DAYLIGHT
TZOFFSETFROM:-0900
TZOFFSETTO:-0800
TZNAME:AKDT
DTSTART:20250309T110000
END:DAYLIGHT
BEGIN:STANDARD
TZOFFSETFROM:-0800
TZOFFSETTO:-0900
TZNAME:AKST
DTSTART:20251102T100000
END:STANDARD
BEGIN:DAYLIGHT
TZOFFSETFROM:-0900
TZOFFSETTO:-0800
TZNAME:AKDT
DTSTART:20260308T110000
END:DAYLIGHT
BEGIN:STANDARD
TZOFFSETFROM:-0800
TZOFFSETTO:-0900
TZNAME:AKST
DTSTART:20261101T100000
END:STANDARD
BEGIN:DAYLIGHT
TZOFFSETFROM:-0900
TZOFFSETTO:-0800
TZNAME:AKDT
DTSTART:20270314T110000
END:DAYLIGHT
BEGIN:STANDARD
TZOFFSETFROM:-0800
TZOFFSETTO:-0900
TZNAME:AKST
DTSTART:20271107T100000
END:STANDARD
END:VTIMEZONE
BEGIN:VEVENT
DTSTART;VALUE=DATE:20260412
DTEND;VALUE=DATE:20260413
DTSTAMP:20260421T025441
CREATED:20260331T163641Z
LAST-MODIFIED:20260331T163641Z
UID:10000187-1775952000-1776038399@ketchikanciviccenter.com
SUMMARY:KWC Summit
DESCRIPTION:
URL:https://ketchikanciviccenter.com/event/kwc-summit/
LOCATION:Ted Ferry Civic Center\, 888 Venetia Ave\, Ketchikan\, AK\, 99901\, United States
ORGANIZER;CN="Ketchikan Wellness Coalition":MAILTO:info@ketchikanwellness.org
END:VEVENT
END:VCALENDAR